BEGIN:VCALENDAR
VERSION:2.0
PRODID:-// eRoom plugin //NONSGML v1.0//EN
CALSCALE:GREGORIAN
BEGIN:VEVENT
UID:eRoom-1776814311
SUMMARY:Portfolio and Resume Guidance – Live Session
LOCATION:Zoom
DESCRIPTION:Portfolio and Resume Guidance – Live Session is inviting you 
 to a scheduled Zoom meeting.\n\nJoin Zoom Meeting\nhttps://us06web.zoom.us
 /j/88922324304?pwd=NlNSOE02MU9kNk1vd0pkdm5CTzN3UT09\n\nMeeting ID: 8892232
 4304\nPasscode: resume2022\n
URL;VALUE=URI:https://us06web.zoom.us/j/88922324304?pwd=NlNSOE02MU9kNk1vd0pkdm5CTzN3UT09
DTSTART:20221119T043000Z
DTEND:20221119T073000Z
DTSTAMP:20260421T233151Z
BEGIN:VALARM
ACTION:DISPLAY
DESCRIPTION:Reminder
TRIGGER;RELATED=START:-PT15M
END:VALARM
END:VEVENT
END:VCALENDAR